Workbook

Sheet Tableau récapitulatif
A1: Budget prévisionnel de l'association et de l'activité
A2: Nom de l'association :
A3: Exercices : décembre 2026 - août 2029
A4: Tableau récapitulatif des recettes et dépenses de l'activité
A5: RECETTES TOTALES 2026 - 2029 | B5: DÉPENSES TOTALES 2026 - 2029 | C5: SOLDE 2026 - 2029
A6: ='Recettes de l''activité'!I89 -> 0 | B6: ='Dépenses de l''activité'!J92 -> 0 | C6: =A6-B6 -> 0
A7: SUBVENTION COCOF 2026 - 2029 | B7: DÉPENSES PRISES EN CHARGE PAR LA COCOF 2026 - 2029 | C7: SOLDE 2026 - 2029
A8: ='Recettes de l''activité'!J89 -> 0 | B8: ='Dépenses de l''activité'!L92 -> 0 | C8: =A8-(B8) -> 0
A10: Tableau récapitulatif des recettes et dépenses de l'association 2026-2027
A11: RECETTES TOTALES 2026 - 2027 | B11: DÉPENSES TOTALES 2026 - 2027 | C11: SOLDE 2026-2027
A12: =SUM('Recettes de l''association'!J89,'Recettes de l''association'!L89) -> 0 | B12: =SUM('Dépenses de l''association'!J90,'Dépenses de l''association'!L90) -> 0 | C12: 0
A14: Il est demandé de remplir l'ensemble des feuilles comprises dans ce fichier (voir les onglets en bas de la feuille), à savoir :
A15: - le présent tableau récapitulatif (il se complète automatiquement selon les données remplies dans les différents onglets)
A16: - les dépenses de l'activité à subventionner,
A17: - les recettes de l'activité à subventionner,
A18: - les dépenses relatives au fonctionnement de l'association dans son ensemble (2026-2027),
A19: - les recettes relatives au fonctionnement de l'association dans son ensemble (2026-2027),

Sheet Dépenses de l'activité
A1: Budget prévisionnel de l'activité
A2: Nom de l'association : | J2: Exercices: | L2: 2026 - 2029
A3: DEPENSES
I4: Montants | J4: Totaux 2026 - 2029 | L4: Proposition de prise en charge par la Cocof
A5: 60/ | B5: 1 | C5: Activités et animation | J5: =SUM(I6:I8) -> 0 | L5: =SUM(L6:L8) -> 0
C6: 1 | D6: Activités (billets d'entrée, etc.)
C7: 2 | D7: Animation (matériel pédagogique, etc.)
C8: 3 | D8: Autre (à préciser)
A10: 61/ | B10: 1 | C10: Location et charges | J10: =SUM(I11:I17) -> 0 | L10: =SUM(L11:L17) -> 0
C11: 1 | D11: Locations permanentes
C12: 2 | D12: Locations ponctuelles
C13: 3 | D13: Charges (eau, gaz, électricité)
C14: 4 | D14: Assurances
C15: 5 | D15: Entretien
C16: 6 | D16: Matériel et produits d'entretien
C17: 7 | D17: Autre (à préciser)
A19: 61/ | B19: 2 | C19: Promotion et de publication | J19: =SUM(I20:I25) -> 0 | L19: =SUM(L20:L25) -> 0
C20: 1 | D20: Frais de réalisation
C21: 2 | D21: Frais d’impression
C22: 3 | D22: Frais de distribution
C23: 4 | D23: Réceptions, relations publiques
C24: 5 | D24: Droits d'auteur
C25: 6 | D25: Autre (à préciser)
A27: 61/ | B27: 3 | C27: Administratif | J27: =SUM(I28:I38) -> 0 | L27: =SUM(L28:L38) -> 0
C28: 1 | D28: Petit matériel
C29: 2 | D29: Petit mobilier de bureau
C30: 3 | D30: Matériel spécifique
C31: 4 | D31: Fournitures et documentation
C32: 5 | D32: Téléphone, fax
C33: 6 | D33: Frais postaux
C34: 7 | D34: Photocopies
C35: 8 | D35: Maintenance
C36: 9 | D36: Frais de gestion, secretariat social
C37: 10 | D37: Assurances
C38: 11 | D38: Autre (à préciser)
A40: 61/ | B40: 4 | C40: Déplacements | J40: =SUM(I41:I46) -> 0 | L40: =SUM(L41:L46) -> 0
C41: 1 | D41: Location ponctuelle
C42: 2 | D42: Carburant
C43: 3 | D43: Assurances, taxes
C44: 4 | D44: Transport public
...

Sheet Recettes de l'activité
A1: Budget prévisionnel de l'activité
A2: Nom de l'association : | I2: Exercices: | J2: 2026 - 2029
A3: RECETTES
H4: Le subside est-il - en Demande ? (D) - Acquis ? (A) | I4: Montants 2026 - 2029 | J4: Proposition de prise en charge par la Cocof
A5: 70/ | B5: Recettes propres | I5: =SUM(H6:H10) -> 0 | J5: =SUM(J6:J10) -> 0
B6: 1 | C6: Dons
B7: 2 | C7: Sponsors
B8: 3 | C8: Cotisations des membres
B9: 4 | C9: Recettes d'activités
B10: 5 | C10: Autre (à préciser)
A12: 71/ | B12: Conventions | I12: =SUM(H13:H15) -> 0 | J12: =SUM(J13:J15) -> 0
B13: 1 | C13: Fondation Roi Baudouin
B14: 2 | C14: Loterie Nationale
B15: 3 | C15: Autre (à préciser)
A17: 72/ | B17: Subventions de la Commission Communautaire Française | I17: =SUM(H19:H29) -> 0 | J17: =SUM(J19:J29) -> 0
B18: Préciser le(s) programme(s) / Mentionnez également le subside pour lequel cette demande est introduite
B19: 1 | C19: Culture
C20: Social
C21: Parascolaire
C22: Aide aux personnes
C23: handicapées
C24: Santé
C25: Tourisme
C26: Sport
C27: Infrastructure
C28: Enseignement
B29: 2 | C29: Autre (à préciser)
A31: 73/ | B31: Subventions d'autres Pouvoirs Publics | G31: Préciser le(s) programme(s) | I31: =SUM(H33:H80) -> 0 | J31: =SUM(J33:J41,J43:J46,J48:J56,J58:J69,J71:J74,J76:J80) -> 0
B32: 1 | C32: Fédération Wallonie-Bruxelles
C33: 1 | D33: Education Permanente
C34: 2 | D34: Service Jeunesse
C35: 3 | D35: Aide à la Jeunesse
C36: 4 | D36: Secteur santé
C37: 5 | D37: Secteur Femmes
C38: 6 | D38: C.E.C.
C39: 7 | D39: Formations
C40: 8 | D40: F.B.I.
C41: 9 | D41: Autre (à préciser)
B42: 2 | C42: Commune
C43: 1 | D43: En direct
...

Sheet Dépenses de l'association
A1: Budget prévisionnel de l'association
A2: Nom de l'association : | I2: Exercices: | J2: 2026 | L2: 2027
A3: DEPENSES
I4: Montants | K4: Montants
A5: 60/ | B5: 1 | C5: Activités et animation | J5: =SUM(I6:I8) -> 0 | L5: =SUM(K6:K8) -> 0
C6: 1 | D6: Activités (billets d'entrée, etc.)
C7: 2 | D7: Animation (matériel pédagogique, etc.)
C8: 3 | D8: Autre (à préciser)
A10: 61/ | B10: 1 | C10: Location et charges | J10: =SUM(I11:I17) -> 0 | L10: =SUM(K11:K17) -> 0
C11: 1 | D11: Locations permanentes
C12: 2 | D12: Locations ponctuelles
C13: 3 | D13: Charges (eau, gaz, électricité)
C14: 4 | D14: Assurances
C15: 5 | D15: Entretien
C16: 6 | D16: Matériel et produits d'entretien
C17: 7 | D17: Autre (à préciser)
A19: 61/ | B19: 2 | C19: Promotion et publication | J19: =SUM(I20:I25) -> 0 | L19: =SUM(K20:K25) -> 0
C20: 1 | D20: Frais de réalisation
C21: 2 | D21: Frais d’impression
C22: 3 | D22: Frais de distribution
C23: 4 | D23: Réceptions, relations publiques
C24: 5 | D24: Droits d'auteur
C25: 6 | D25: Autre (à préciser)
A27: 61/ | B27: 3 | C27: Administratif | J27: =SUM(I28:I38) -> 0 | L27: =SUM(K28:K38) -> 0
C28: 1 | D28: Petit matériel
C29: 2 | D29: Petit mobilier de bureau
C30: 3 | D30: Matériel spécifique
C31: 4 | D31: Fournitures et documentation
C32: 5 | D32: Téléphone, fax
C33: 6 | D33: Frais postaux
C34: 7 | D34: Photocopies
C35: 8 | D35: Maintenance
C36: 9 | D36: Frais de gestion, secretariat social
C37: 10 | D37: Assurances
C38: 11 | D38: Autre (à préciser)
A40: 61/ | B40: 4 | C40: Déplacements | J40: =SUM(I41:I46) -> 0 | L40: =SUM(K41:K46) -> 0
C41: 1 | D41: Location ponctuelle
C42: 2 | D42: Carburant
C43: 3 | D43: Assurances, taxes
C44: 4 | D44: Transport public
...

Sheet Recettes de l'association
A1: Budget prévisionnel de l'association
A2: Nom de l'association : | I2: Exercices: | J2: 2026 | L2: 2027
A3: RECETTES
H4: Le subside est-il - en Demande ? (D) - Acquis ? (A) | I4: Montants | J4: Totaux | K4: Montants | L4: Totaux
A5: 70/ | B5: Recettes propres | J5: =SUM(I6:I11) -> 0 | L5: =SUM(K6:K11) -> 0
B6: 1 | C6: Dons
B7: 2 | C7: Sponsors
B8: 3 | C8: Cotisations des membres
B9: 4 | C9: Recettes d'activités
B10: 5 | C10: Autre (à préciser)
A13: 71/ | B13: Conventions | J13: =SUM(I14:I17) -> 0 | L13: =SUM(K14:K17) -> 0
B14: 1 | C14: Fondation Roi Baudouin
B15: 2 | C15: Loterie Nationale
B16: 3 | C16: Autre (à préciser)
A19: 72/ | B19: Subventions de la Commission Communautaire Française | J19: =SUM(I21:I31) -> 0 | L19: =SUM(K21:K31) -> 0
B20: Préciser le(s) programme(s) / Mentionnez également le subside pour lequel cette demande est introduite
B21: 1 | C21: Culture
C22: Social
C23: Parascolaire
C24: Aide aux personnes handicapées
C25: Santé
C26: Tourisme
C27: Sport
C28: Infrastructure
C29: Enseignement
B30: 2 | C30: Autre (à préciser)
A33: 73/ | B33: Subventions d'autres Pouvoirs Publics | G33: Préciser le(s) programme(s) | J33: =SUM(I35:I43,I45:I48,I50:I58,I60:I70,I72:I75,I77:I80) -> 0 | L33: =SUM(K35:K43,K45:K48,K50:K58,K60:K70,K72:K75,K77:K80) -> 0
B34: 1 | C34: Fédération Wallonie-Bruxelles
C35: 1 | D35: Education Permanente
C36: 2 | D36: Service Jeunesse
C37: 3 | D37: Aide à la Jeunesse
C38: 4 | D38: Secteur santé
C39: 5 | D39: Secteur Femmes
C40: 6 | D40: C.E.C.
C41: 7 | D41: Formations
C42: 8 | D42: F.B.I.
C43: 9 | D43: Autre (à préciser)
B44: 2 | C44: Commune
C45: 1 | D45: En direct
C46: 2 | D46: Via programme
...
